BEGIN:VCALENDAR
VERSION:2.0
PRODID:-//pretix//pretix.eu//
BEGIN:VEVENT
UID:pretix-yontex-ebs2024-0@tickets.braubeviale.com
DTSTART;VALUE=DATE:20240918
DTEND;VALUE=DATE:20240921
DESCRIPTION:Tickets: https://tickets.braubeviale.com/ebs2024/\nVeranstalter
 : YONTEX GmbH & Co. KG
DTSTAMP:20260422T182108Z
LOCATION:Nürnberg Messe\, Messezentrum 1\, 90471 Nürnberg
SUMMARY:European Beer Star 2024
END:VEVENT
END:VCALENDAR
